BEGIN:VCALENDAR
VERSION:2.0
METHOD:PUBLISH
X-WR-CALNAME:Brick.ie |  October 01 2017- November 01 2017
PRODID:-//strange bird labs//Drupal iCal API//EN
BEGIN:VEVENT
DTSTAMP;VALUE=DATE-TIME:20171030T075926Z
DTSTART;VALUE=DATE-TIME:20171021T131300Z
DTEND;VALUE=DATE-TIME:20171021T131300Z
UID:http://www.brick.ie/event/october-meeting-1
URL;VALUE=URI:http://www.brick.ie/event/october-meeting-1
SUMMARY:October Meeting
DESCRIPTION:n/a
END:VEVENT
BEGIN:VEVENT
DTSTAMP;VALUE=DATE-TIME:20171030T075926Z
DTSTART;VALUE=DATE-TIME:20171026T093000Z
DTEND;VALUE=DATE-TIME:20171029T170000Z
UID:http://www.brick.ie/event/brick-live-birmingham
URL;VALUE=URI:http://www.brick.ie/event/brick-live-birmingham
SUMMARY:Brick Live\, Birmingham
DESCRIPTION:n/a
END:VEVENT
BEGIN:VEVENT
DTSTAMP;VALUE=DATE-TIME:20171030T075926Z
DTSTART;VALUE=DATE-TIME:20171028T110000Z
DTEND;VALUE=DATE-TIME:20171030T170000Z
UID:http://www.brick.ie/event/south-dublin-model-railway-exhibition-blackrock
URL;VALUE=URI:http://www.brick.ie/event/south-dublin-model-railway-exhibition-blackrock
SUMMARY:South Dublin Model Railway Exhibition\, Blackrock
DESCRIPTION:n/a
END:VEVENT
END:VCALENDAR
