BEGIN:VCALENDAR
VERSION:2.0
METHOD:PUBLISH
X-WR-CALNAME:Brick.ie |  September 24 2010- October 24 2010
PRODID:-//strange bird labs//Drupal iCal API//EN
BEGIN:VEVENT
DTSTAMP;VALUE=DATE-TIME:20260423T092922Z
DTSTART;VALUE=DATE-TIME:20100924T101700Z
DTEND;VALUE=DATE-TIME:20020203
UID:https://www.brick.ie/event/lego-fan-weekend-sk%C3%A6rb%C3%A6k
URL;VALUE=URI:https://www.brick.ie/event/lego-fan-weekend-sk%C3%A6rb%C3%A6k
SUMMARY:Lego Fan Weekend\, Skærbæk
DESCRIPTION: <p>The Lego Fan Weekend is a fun event for all fans of LEGO. Taking place in Skærbæk\, in south Denmark\, it is a great time to meet lots of other LEGO fans from around the world.</p> 
END:VEVENT
BEGIN:VEVENT
DTSTAMP;VALUE=DATE-TIME:20260423T092922Z
DTSTART;VALUE=DATE-TIME:20100930T103000Z
DTEND;VALUE=DATE-TIME:20020203
UID:https://www.brick.ie/event/brickcon-2010
URL;VALUE=URI:https://www.brick.ie/event/brickcon-2010
SUMMARY:BrickCon 2010
DESCRIPTION: <p>BrickCon\: An Adult LEGO® Hobbyist Event held each October at the Seattle Center.</p>
 
 <p>What\: BrickCon 2010 Public Exhibition – View hundreds of display models made from thousands of LEGO® parts\, created by Adult LEGO® Hobbyists for the enjoyment of all. Build your own masterpieces in our Building Zone. Purchase current\, past and custom LEGO® sets\, parts and minifigs at our BrickBazaar. Win Prizes!</p>
 
 <p>Where\: Seattle Center Exhibition Hall\, Seattle\, Washington.</p>
 
 <p>When\: October 2nd and 3rd\, 11 am – 3 pm.</p>
 
 <p>Admission\: $7 per person (kids under 4 free).</p> 
END:VEVENT
BEGIN:VEVENT
DTSTAMP;VALUE=DATE-TIME:20260423T092922Z
DTSTART;VALUE=DATE-TIME:20101002T101100Z
DTEND;VALUE=DATE-TIME:20020203
UID:https://www.brick.ie/event/great-western-lego-show
URL;VALUE=URI:https://www.brick.ie/event/great-western-lego-show
SUMMARY:The Great Western LEGO Show
DESCRIPTION: <p>The Great Western LEGO Show is the UK's biggest LEGO display event\, taking place at STEAM\, the Museum of the Great Western Railway in Swindon on the first weekend of October.</p>
 
 <p>Brick.ie will have a presence at this event.</p> 
END:VEVENT
BEGIN:VEVENT
DTSTAMP;VALUE=DATE-TIME:20260423T092922Z
DTSTART;VALUE=DATE-TIME:20101019T234500Z
DTEND;VALUE=DATE-TIME:20020203
UID:https://www.brick.ie/event/lego-world-zwolle
URL;VALUE=URI:https://www.brick.ie/event/lego-world-zwolle
SUMMARY:LEGO World\, Zwolle
DESCRIPTION: <p>The biggest LEGO Event in the World (100.000 public visitors) – LEGO World in Zwolle\, the Netherlands from the 19th – 28th of October.</p> 
END:VEVENT
END:VCALENDAR
