BEGIN:VCALENDAR
VERSION:2.0
METHOD:PUBLISH
X-WR-CALNAME:Brick.ie |  April 28 2011- May 28 2011
PRODID:-//strange bird labs//Drupal iCal API//EN
BEGIN:VEVENT
DTSTAMP;VALUE=DATE-TIME:20260423T093908Z
DTSTART;VALUE=DATE-TIME:20110428T100000Z
DTEND;VALUE=DATE-TIME:20110502T170000Z
UID:https://www.brick.ie/event/afolcon
URL;VALUE=URI:https://www.brick.ie/event/afolcon
SUMMARY:AFOLcon
DESCRIPTION:n/a
END:VEVENT
BEGIN:VEVENT
DTSTAMP;VALUE=DATE-TIME:20260423T093908Z
DTSTART;VALUE=DATE-TIME:20110522T110000Z
DTEND;VALUE=DATE-TIME:20110522T110000Z
UID:https://www.brick.ie/event/monthly-meeting-may-2011
URL;VALUE=URI:https://www.brick.ie/event/monthly-meeting-may-2011
SUMMARY:Monthly Meeting - May 2011
DESCRIPTION: <p>Regular meeting of Brick.ie held in the Long Stone pub. Bring any models to show or parts to trade. We may occasionally have competitions and small prizes.</p>
 
 <p>All welcome!</p> 
END:VEVENT
END:VCALENDAR
