BEGIN:VCALENDAR
VERSION:2.0
METHOD:PUBLISH
X-WR-CALNAME:Brick.ie |  October 24 2011- October 31 2011
PRODID:-//strange bird labs//Drupal iCal API//EN
BEGIN:VEVENT
DTSTAMP;VALUE=DATE-TIME:20260423T092813Z
DTSTART;VALUE=DATE-TIME:20111029T100000Z
DTEND;VALUE=DATE-TIME:20111031T160000Z
UID:https://www.brick.ie/event/south-dublin-model-train-show
URL;VALUE=URI:https://www.brick.ie/event/south-dublin-model-train-show
SUMMARY:South Dublin Model Train Show
DESCRIPTION: <p></p> 
END:VEVENT
END:VCALENDAR
