BEGIN:VCALENDAR
VERSION:2.0
METHOD:PUBLISH
X-WR-CALNAME:Brick.ie |  December 17 2011- January 16 2012
PRODID:-//strange bird labs//Drupal iCal API//EN
BEGIN:VEVENT
DTSTAMP;VALUE=DATE-TIME:20260423T092811Z
DTSTART;VALUE=DATE-TIME:20111217T123000Z
DTEND;VALUE=DATE-TIME:20111217T123000Z
UID:https://www.brick.ie/event/monthly-meeting
URL;VALUE=URI:https://www.brick.ie/event/monthly-meeting
SUMMARY:Monthly meeting
DESCRIPTION: <p>The December meeting is scheduled for 17 December 2011. As before unless otherwise advised (watch the forums) it will be in Nealon's pub in Capel street Dublin 1 and we tend to gather between 1pm and 2pm.</p> 
END:VEVENT
END:VCALENDAR
