BEGIN:VCALENDAR
VERSION:2.0
METHOD:PUBLISH
X-WR-CALNAME:Brick.ie |  January 20 2012- February 19 2012
PRODID:-//strange bird labs//Drupal iCal API//EN
BEGIN:VEVENT
DTSTAMP;VALUE=DATE-TIME:20260423T104954Z
DTSTART;VALUE=DATE-TIME:20120121T123000Z
DTEND;VALUE=DATE-TIME:20120121T123000Z
UID:https://www.brick.ie/event/regular-meeting-2012
URL;VALUE=URI:https://www.brick.ie/event/regular-meeting-2012
SUMMARY:Regular meeting 2012
DESCRIPTION: <p>Our regular meeting takes place on the 3rd Saturday of every month. </p>
 
 <p>The first meeting of 2012 is scheduled to take place on Saturday 21 January 2012 although please check the site for any updates or changes to this schedule. As usual it will be in Nealon's pub in Capel Street.</p> 
END:VEVENT
BEGIN:VEVENT
DTSTAMP;VALUE=DATE-TIME:20260423T104954Z
DTSTART;VALUE=DATE-TIME:20120218T123000Z
DTEND;VALUE=DATE-TIME:20120218T123000Z
UID:https://www.brick.ie/event/february-meeting
URL;VALUE=URI:https://www.brick.ie/event/february-meeting
SUMMARY:February meeting
DESCRIPTION: <p>The February meeting is provisonally scheduled for Saturday 18 February (3rd Sat of month as normal). This is subject to change if people find a different Saturday more convenient. Please watch the forums for any updates.</p> 
END:VEVENT
END:VCALENDAR
