BEGIN:VCALENDAR
VERSION:2.0
METHOD:PUBLISH
X-WR-CALNAME:Brick.ie |  June 16 2012- July 16 2012
PRODID:-//strange bird labs//Drupal iCal API//EN
BEGIN:VEVENT
DTSTAMP;VALUE=DATE-TIME:20260423T092752Z
DTSTART;VALUE=DATE-TIME:20120616T123000Z
DTEND;VALUE=DATE-TIME:20120616T123000Z
UID:https://www.brick.ie/event/june-meeting
URL;VALUE=URI:https://www.brick.ie/event/june-meeting
SUMMARY:June meeting
DESCRIPTION: <p>The June meeting is provisionally scheduled for the 3rd Saturday in June in Nealon's Pub on Capel Street\, Dublin 1. I say provisionally because if people prefer and if Lugbulk arrives around then we may combine our monthly meeting with a Lugbulk sort if people prefer.</p> 
END:VEVENT
END:VCALENDAR
