BEGIN:VCALENDAR
VERSION:2.0
METHOD:PUBLISH
X-WR-CALNAME:Brick.ie |  January 19 2013- February 18 2013
PRODID:-//strange bird labs//Drupal iCal API//EN
BEGIN:VEVENT
DTSTAMP;VALUE=DATE-TIME:20260423T084513Z
DTSTART;VALUE=DATE-TIME:20130119T130000Z
DTEND;VALUE=DATE-TIME:20130119T160000Z
UID:https://www.brick.ie/event/january-meeting
URL;VALUE=URI:https://www.brick.ie/event/january-meeting
SUMMARY:January meeting
DESCRIPTION: <p>Meet us for our monthly natter about Lego\, the Universe and Everything.</p> 
END:VEVENT
BEGIN:VEVENT
DTSTAMP;VALUE=DATE-TIME:20260423T084513Z
DTSTART;VALUE=DATE-TIME:20130216T130000Z
DTEND;VALUE=DATE-TIME:20130216T160000Z
UID:https://www.brick.ie/event/february-meeting-0
URL;VALUE=URI:https://www.brick.ie/event/february-meeting-0
SUMMARY:February meeting
DESCRIPTION: <p>Time for a cup of soup or something stronger and a chat about all things Lego.</p> 
END:VEVENT
END:VCALENDAR
