BEGIN:VCALENDAR
VERSION:2.0
METHOD:PUBLISH
X-WR-CALNAME:Brick.ie |  May 18 2013- June 17 2013
PRODID:-//strange bird labs//Drupal iCal API//EN
BEGIN:VEVENT
DTSTAMP;VALUE=DATE-TIME:20260423T075440Z
DTSTART;VALUE=DATE-TIME:20130518T130000Z
DTEND;VALUE=DATE-TIME:20130518T150000Z
UID:https://www.brick.ie/event/may-meeting-0
URL;VALUE=URI:https://www.brick.ie/event/may-meeting-0
SUMMARY:May meeting
DESCRIPTION: <p></p> 
END:VEVENT
BEGIN:VEVENT
DTSTAMP;VALUE=DATE-TIME:20260423T075440Z
DTSTART;VALUE=DATE-TIME:20130606T080000Z
DTEND;VALUE=DATE-TIME:20130608T160000Z
UID:https://www.brick.ie/event/eurobricks-2013
URL;VALUE=URI:https://www.brick.ie/event/eurobricks-2013
SUMMARY:Eurobricks 2013
DESCRIPTION: <p></p> 
END:VEVENT
BEGIN:VEVENT
DTSTAMP;VALUE=DATE-TIME:20260423T075440Z
DTSTART;VALUE=DATE-TIME:20130615T213200Z
DTEND;VALUE=DATE-TIME:20020203
UID:https://www.brick.ie/event/brickie-event
URL;VALUE=URI:https://www.brick.ie/event/brickie-event
SUMMARY:Brick.ie event!!!
DESCRIPTION: <p>The first annual Brick.ie event will be held on Saturday June 15th in Kildare.<br />
 This is a members-only event. Details on the forum.</p> 
END:VEVENT
BEGIN:VEVENT
DTSTAMP;VALUE=DATE-TIME:20260423T075440Z
DTSTART;VALUE=DATE-TIME:20130616T213500Z
DTEND;VALUE=DATE-TIME:20020203
UID:https://www.brick.ie/event/kildare-county-show
URL;VALUE=URI:https://www.brick.ie/event/kildare-county-show
SUMMARY:Kildare county show
DESCRIPTION: <p></p> 
END:VEVENT
END:VCALENDAR
