BEGIN:VCALENDAR
VERSION:2.0
METHOD:PUBLISH
X-WR-CALNAME:Brick.ie |  August 01 2013- September 01 2013
PRODID:-//strange bird labs//Drupal iCal API//EN
BEGIN:VEVENT
DTSTAMP;VALUE=DATE-TIME:20260423T062209Z
DTSTART;VALUE=DATE-TIME:20130817T130000Z
DTEND;VALUE=DATE-TIME:20130817T150000Z
UID:https://www.brick.ie/event/august-meeting
URL;VALUE=URI:https://www.brick.ie/event/august-meeting
SUMMARY:August meeting
DESCRIPTION: <p>Join us in Jack Nealons pub in Capel street for a chat about the weather\, sport\, politics and possibly even plastic bricks...</p> 
END:VEVENT
BEGIN:VEVENT
DTSTAMP;VALUE=DATE-TIME:20260423T062209Z
DTSTART;VALUE=DATE-TIME:20130824T110000Z
DTEND;VALUE=DATE-TIME:20130825T160000Z
UID:https://www.brick.ie/event/dlrmrsi-event
URL;VALUE=URI:https://www.brick.ie/event/dlrmrsi-event
SUMMARY:DLR/MRSI event
DESCRIPTION: <p>The DLR/ MRSI model railway event is scheduled for 24 and 25 August this year. I've added this to the calendar to help with people's diaries although please be aware that we haven't received a formal invite yet.</p> 
END:VEVENT
END:VCALENDAR
