BEGIN:VCALENDAR
VERSION:2.0
METHOD:PUBLISH
X-WR-CALNAME:Brick.ie |  October 26 2013- November 25 2013
PRODID:-//strange bird labs//Drupal iCal API//EN
BEGIN:VEVENT
DTSTAMP;VALUE=DATE-TIME:20260423T093907Z
DTSTART;VALUE=DATE-TIME:20131026T100000Z
DTEND;VALUE=DATE-TIME:20131028T160000Z
UID:https://www.brick.ie/event/sdmrc-event-2013-blackrock-college-26-28-oct-2013
URL;VALUE=URI:https://www.brick.ie/event/sdmrc-event-2013-blackrock-college-26-28-oct-2013
SUMMARY:SDMRC Event 2013 - Blackrock College 26-28 Oct 2013
DESCRIPTION: <p>SDMRC's bi-annual exhibition at Blackrock College in Booterstown is open 11am - 5pm all three days of the bank holiday weekend.</p> 
END:VEVENT
BEGIN:VEVENT
DTSTAMP;VALUE=DATE-TIME:20260423T093907Z
DTSTART;VALUE=DATE-TIME:20131116T130000Z
DTEND;VALUE=DATE-TIME:20131116T153000Z
UID:https://www.brick.ie/event/november-monthly-meeting
URL;VALUE=URI:https://www.brick.ie/event/november-monthly-meeting
SUMMARY:November monthly meeting
DESCRIPTION: <p>The November meeting is scheduled for Saturday 16 November 2013 as its the 3rd Saturday of the month. Its in the usual place\, Nealon's pub on Capel Street</p> 
END:VEVENT
END:VCALENDAR
