BEGIN:VCALENDAR
VERSION:2.0
METHOD:PUBLISH
X-WR-CALNAME:Brick.ie |  December 14 2013- January 13 2014
PRODID:-//strange bird labs//Drupal iCal API//EN
BEGIN:VEVENT
DTSTAMP;VALUE=DATE-TIME:20260423T075509Z
DTSTART;VALUE=DATE-TIME:20131214T130000Z
DTEND;VALUE=DATE-TIME:20131214T150000Z
UID:https://www.brick.ie/event/december-meeting-saturday-14-december
URL;VALUE=URI:https://www.brick.ie/event/december-meeting-saturday-14-december
SUMMARY:December meeting on Saturday 14 December
DESCRIPTION: <p>The December meeting will take place this coming Saturday at Jack Nealon's Pub Capel Street Dublin.</p> 
END:VEVENT
END:VCALENDAR
