BEGIN:VCALENDAR
VERSION:2.0
METHOD:PUBLISH
X-WR-CALNAME:Brick.ie |  January 18 2014- February 17 2014
PRODID:-//strange bird labs//Drupal iCal API//EN
BEGIN:VEVENT
DTSTAMP;VALUE=DATE-TIME:20260423T075354Z
DTSTART;VALUE=DATE-TIME:20140118T130000Z
DTEND;VALUE=DATE-TIME:20140118T150000Z
UID:https://www.brick.ie/event/next-monthly-meeting-0
URL;VALUE=URI:https://www.brick.ie/event/next-monthly-meeting-0
SUMMARY:Next monthly meeting
DESCRIPTION: <p>The monthly meeting is normally held on the 3rd Saturday of the month which in January will be the 18th. I've provisionally entered  this in the calendar but watch the forums for updates.</p> 
END:VEVENT
BEGIN:VEVENT
DTSTAMP;VALUE=DATE-TIME:20260423T075354Z
DTSTART;VALUE=DATE-TIME:20140213T090000Z
DTEND;VALUE=DATE-TIME:20140216T160000Z
UID:https://www.brick.ie/event/legoworld-copenhagen-2014
URL;VALUE=URI:https://www.brick.ie/event/legoworld-copenhagen-2014
SUMMARY:Legoworld Copenhagen 2014
DESCRIPTION: <p>LEGO's flagship event over four days - lots to see and do - <a href=\\"http\://www.legoworld.dk/\\">http\://www.legoworld.dk/</a> </p> 
END:VEVENT
BEGIN:VEVENT
DTSTAMP;VALUE=DATE-TIME:20260423T075354Z
DTSTART;VALUE=DATE-TIME:20140215T130000Z
DTEND;VALUE=DATE-TIME:20140215T130000Z
UID:https://www.brick.ie/event/february-meeting-1
URL;VALUE=URI:https://www.brick.ie/event/february-meeting-1
SUMMARY:February meeting
DESCRIPTION: <p>The next meeting is scheduled for Jack Nealon's Pub\, Capel Street for 2pm-ish on the 15 February. It usually runs until about 4pm and from there we often pay a visit to the local toy stores. For a bit of a chat about everything LEGO related why not drop in?</p>
 
 <p>All new members welcome.</p> 
END:VEVENT
END:VCALENDAR
