BEGIN:VCALENDAR
VERSION:2.0
METHOD:PUBLISH
X-WR-CALNAME:Brick.ie |  April 12 2014- May 12 2014
PRODID:-//strange bird labs//Drupal iCal API//EN
BEGIN:VEVENT
DTSTAMP;VALUE=DATE-TIME:20260423T075528Z
DTSTART;VALUE=DATE-TIME:20140412T130000Z
DTEND;VALUE=DATE-TIME:20140412T153000Z
UID:https://www.brick.ie/event/april-meeting-1
URL;VALUE=URI:https://www.brick.ie/event/april-meeting-1
SUMMARY:April meeting
DESCRIPTION: <p>The April meeting will be held on the 2nd Saturday in April at 2pm in Nealon's pub Capel Street\, Dublin. This to avoid a clash with Easter holidays. All welcome.</p> 
END:VEVENT
BEGIN:VEVENT
DTSTAMP;VALUE=DATE-TIME:20260423T075528Z
DTSTART;VALUE=DATE-TIME:20140508T070000Z
DTEND;VALUE=DATE-TIME:20140510T220000Z
UID:https://www.brick.ie/event/eurobricks-annual-event-10th-anniversary
URL;VALUE=URI:https://www.brick.ie/event/eurobricks-annual-event-10th-anniversary
SUMMARY:Eurobricks annual event (10th anniversary)
DESCRIPTION: <p>Eurobricks annual meeting takes place in Billund Denmark in 2014\, the home of LEGO. There will be a full program of events. See the eurobricks site for more information  <a href=\\"http\://www.eurobricks.com/forum/index.php?showtopic=84556\\">http\://www.eurobricks.com/forum/index.php?showtopic=84556</a></p>
 
 <p></p> 
END:VEVENT
END:VCALENDAR
