BEGIN:VCALENDAR
VERSION:2.0
METHOD:PUBLISH
X-WR-CALNAME:Brick.ie |  June 21 2014- July 21 2014
PRODID:-//strange bird labs//Drupal iCal API//EN
BEGIN:VEVENT
DTSTAMP;VALUE=DATE-TIME:20260423T075040Z
DTSTART;VALUE=DATE-TIME:20140517T080000Z
DTEND;VALUE=DATE-TIME:20140713T180000Z
UID:https://www.brick.ie/event/brick-city-titanic-belfast-museum
URL;VALUE=URI:https://www.brick.ie/event/brick-city-titanic-belfast-museum
SUMMARY:Brick City at the Titanic Belfast Museum
DESCRIPTION: <p>Brick City visits the Titanic Belfast museum from 17 May to 13 July. Its a rare opportunity to see some brilliant LEGO models without having to travel on a ferry or plane. For more information see here</p>
 
 <p><a href=\\"http\://www.titanicbelfast.com/The-Experience/Upcoming-Events/Brick-City--LEGO--exhibit-at-Titanic-Belfast.aspx\\">http\://www.titanicbelfast.com/The-Experience/Upcoming-Events/Brick-City--LEGO--exhibit-at-Titanic-Belfast.aspx</a></p> 
END:VEVENT
BEGIN:VEVENT
DTSTAMP;VALUE=DATE-TIME:20260423T075040Z
DTSTART;VALUE=DATE-TIME:20140621T090000Z
DTEND;VALUE=DATE-TIME:20020203
UID:https://www.brick.ie/event/belfast-titanic-centre-big-build-weekend
URL;VALUE=URI:https://www.brick.ie/event/belfast-titanic-centre-big-build-weekend
SUMMARY:Belfast Titanic Centre - Big Build Weekend 
DESCRIPTION: <p>The Brick City exhibition will be hosted at the Titanic Belfast centre until 12 July. During the run there will be a weekend where Irish builders will be asked to display their models. </p>
 
 <p>This event has now been confirmed for 21 and 22 June. Admission is free with a Brick City ticket. Check with Titanic Belfast for information on how to gain access to the event.</p>
 
 <p>Expected displays include\:</p>
 
 <p>Heuston Station and Irish Rail trains\, Dublin buses and trams and misc. city buildings including Jack Nealon's pub<br />
 German train station and steam locomotives<br />
 Airport loosely based on London City Airport<br />
 Tombraider - the lost valley<br />
 Zulu - Battel of Rorke's Drift<br />
 British imperial ships - some up to a metre in length<br />
 and lots more...<br />
 </p> 
END:VEVENT
END:VCALENDAR
