BEGIN:VCALENDAR
VERSION:2.0
METHOD:PUBLISH
X-WR-CALNAME:Brick.ie |  September 12 2014- October 12 2014
PRODID:-//strange bird labs//Drupal iCal API//EN
BEGIN:VEVENT
DTSTAMP;VALUE=DATE-TIME:20260423T084420Z
DTSTART;VALUE=DATE-TIME:20140913T130000Z
DTEND;VALUE=DATE-TIME:20140913T170000Z
UID:https://www.brick.ie/event/brickie-members-event-2014
URL;VALUE=URI:https://www.brick.ie/event/brickie-members-event-2014
SUMMARY:Brick.ie members event 2014
DESCRIPTION: <p>The 2014 brick.ie members event will take place on Saturday 13 September upstairs in Nealon's pub. Details of competitions etc. will be announced soon.</p> 
END:VEVENT
BEGIN:VEVENT
DTSTAMP;VALUE=DATE-TIME:20260423T084420Z
DTSTART;VALUE=DATE-TIME:20140927T120000Z
DTEND;VALUE=DATE-TIME:20140927T140000Z
UID:https://www.brick.ie/event/cork-meeting-27-september-2014
URL;VALUE=URI:https://www.brick.ie/event/cork-meeting-27-september-2014
SUMMARY:Cork Meeting 27 September 2014
DESCRIPTION: <p>Our first ever Munster meeting will take place on Saturday 27 September at 1pm in the Green Rooms Cork.</p>
 
 <p>This is an opportunity for Cork-based AFOLs to meet up and hopefully it will kickstart further meetings. I'll be bringing some of the models that I've previously taken to events in Dublin and Belfast - not a full layout.</p> 
END:VEVENT
END:VCALENDAR
