BEGIN:VCALENDAR
VERSION:2.0
METHOD:PUBLISH
X-WR-CALNAME:Brick.ie |  November 15 2014- December 15 2014
PRODID:-//strange bird labs//Drupal iCal API//EN
BEGIN:VEVENT
DTSTAMP;VALUE=DATE-TIME:20260423T071820Z
DTSTART;VALUE=DATE-TIME:20141115T130000Z
DTEND;VALUE=DATE-TIME:20141115T160000Z
UID:https://www.brick.ie/event/november-meeting-0
URL;VALUE=URI:https://www.brick.ie/event/november-meeting-0
SUMMARY:November Meeting
DESCRIPTION: <p>Our November meeting is scheduled for 15 November in Nealon's\, Capel Street as usual. New members welcome.</p> 
END:VEVENT
BEGIN:VEVENT
DTSTAMP;VALUE=DATE-TIME:20260423T071820Z
DTSTART;VALUE=DATE-TIME:20141126T225900Z
DTEND;VALUE=DATE-TIME:20020203
UID:https://www.brick.ie/event/brick-2014-formerly-lego-show-and-afolcon
URL;VALUE=URI:https://www.brick.ie/event/brick-2014-formerly-lego-show-and-afolcon
SUMMARY:Brick - 2014 (Formerly LEGO Show) and AFOLCON
DESCRIPTION: <p>The show formerly known as The LEGO Show has moved to the ExCeL arena from the O2 in London and been rebranded as 'Brick 2014'. Furthermore the show has moved from its May date to 27 November which means it no longer clashes with the Eurobricks event.</p>
 
 <p>If previous LEGO show's in Manchester are anything to go by this promises to be one of the biggest LEGO shows ever in the UK especially given the size of the ExCeL arena. </p>
 
 <p>AFOLCON\, the special day for AFOLs also moves to the day before the public show which now runs for 4 days (Thursday to Sunday). If anyone is interested in exhibiting there is an application form on AFOLCON.com. This time around exibitors receive free accommodation and food aswell as free entry to the exhibition on public days and other goodies.  </p>
 
 <p><a href=\\"http\://www.afolcon.com/exhibiting/\\">http\://www.afolcon.com/exhibiting/</a></p>
 
 <p>It is also possible to attend AFOLCON without displaying anything although there is a fee in this instance.</p> 
END:VEVENT
BEGIN:VEVENT
DTSTAMP;VALUE=DATE-TIME:20260423T071820Z
DTSTART;VALUE=DATE-TIME:20141213T124500Z
DTEND;VALUE=DATE-TIME:20141213T150000Z
UID:https://www.brick.ie/event/december-meeting-0
URL;VALUE=URI:https://www.brick.ie/event/december-meeting-0
SUMMARY:December meeting
DESCRIPTION: <p>The December meeting will take place on Saturday 13th December - slightly earlier in the month than normal to avoid the last-minute Christmas rush.</p> 
END:VEVENT
END:VCALENDAR
