BEGIN:VCALENDAR
VERSION:2.0
METHOD:PUBLISH
X-WR-CALNAME:Brick.ie |  February 01 2015- March 01 2015
PRODID:-//strange bird labs//Drupal iCal API//EN
BEGIN:VEVENT
DTSTAMP;VALUE=DATE-TIME:20260423T054230Z
DTSTART;VALUE=DATE-TIME:20150221T130000Z
DTEND;VALUE=DATE-TIME:20150221T153000Z
UID:https://www.brick.ie/event/february-meeting-2
URL;VALUE=URI:https://www.brick.ie/event/february-meeting-2
SUMMARY:February meeting
DESCRIPTION: <p>The February meeting is\, as usual\, scheduled for the third Saturday of the month which this month falls on Saturday 21 February. Meeting is in Nealon's Pub in Capel Street Dublin starting around 2-ish. </p> 
END:VEVENT
END:VCALENDAR
