BEGIN:VCALENDAR
VERSION:2.0
METHOD:PUBLISH
X-WR-CALNAME:Brick.ie |  June 20 2015- July 20 2015
PRODID:-//strange bird labs//Drupal iCal API//EN
BEGIN:VEVENT
DTSTAMP;VALUE=DATE-TIME:20260423T084438Z
DTSTART;VALUE=DATE-TIME:20150621T090000Z
DTEND;VALUE=DATE-TIME:20150621T090000Z
UID:https://www.brick.ie/event/kildare-county-show-athy-21-june-2015
URL;VALUE=URI:https://www.brick.ie/event/kildare-county-show-athy-21-june-2015
SUMMARY:Kildare County Show - Athy - 21 June 2015
DESCRIPTION: <p>The Kildare County Show takes place on Sunday 21 June 2015 at the Showgrounds in Athy Co. Kildare (Fathers Day). This is a large event which incorporates not only agricultural activities but also fun activities for children including amusement rides. For the past two years brick.ie has revealed brand new LEGO creations at the event which has traditionally been the first Leinster event of the year for us. Why not check out the latest models from some of Ireland's best LEGO builders.</p> 
END:VEVENT
BEGIN:VEVENT
DTSTAMP;VALUE=DATE-TIME:20260423T084438Z
DTSTART;VALUE=DATE-TIME:20150718T130000Z
DTEND;VALUE=DATE-TIME:20150718T130000Z
UID:https://www.brick.ie/event/july-meeting-0
URL;VALUE=URI:https://www.brick.ie/event/july-meeting-0
SUMMARY:July Meeting
DESCRIPTION: <p>Join us for a chat about sports\, the weather and err... oh\, yes LEGO of course!</p> 
END:VEVENT
END:VCALENDAR
