BEGIN:VCALENDAR
VERSION:2.0
METHOD:PUBLISH
X-WR-CALNAME:Brick.ie |  August 10 2015- August 17 2015
PRODID:-//strange bird labs//Drupal iCal API//EN
BEGIN:VEVENT
DTSTAMP;VALUE=DATE-TIME:20260423T062139Z
DTSTART;VALUE=DATE-TIME:20150815T130000Z
DTEND;VALUE=DATE-TIME:20150815T160000Z
UID:https://www.brick.ie/event/august-meeting-0
URL;VALUE=URI:https://www.brick.ie/event/august-meeting-0
SUMMARY:August meeting
DESCRIPTION: <p>Unless Dublin is in the middle of a heatwave (wishful thinking) we'll be meeting up in Jack Nealon's pub for a chat about Life\, the Universe and Everything Lego.<br />
 </p> 
END:VEVENT
END:VCALENDAR
