BEGIN:VCALENDAR
VERSION:2.0
METHOD:PUBLISH
X-WR-CALNAME:Brick.ie |  December 11 2015- January 10 2016
PRODID:-//strange bird labs//Drupal iCal API//EN
BEGIN:VEVENT
DTSTAMP;VALUE=DATE-TIME:20260423T071745Z
DTSTART;VALUE=DATE-TIME:20151211T130000Z
DTEND;VALUE=DATE-TIME:20151213T170000Z
UID:https://www.brick.ie/event/brick2015-london
URL;VALUE=URI:https://www.brick.ie/event/brick2015-london
SUMMARY:Brick2015 London
DESCRIPTION: <p>Brick2015 will be held from 11 to 13 December 2015 in Excel London\, two weeks later than last year. Tickets will go on sale on Wednesday 11 February. If you were on the mailing list you can buy tickets 24 hours earlier with a special promo code. There apparently will be more brick pits\, more space etc. than last year.</p>
 
 <p>AFOLCON will be on 10 December.</p> 
END:VEVENT
END:VCALENDAR
