BEGIN:VCALENDAR
VERSION:2.0
METHOD:PUBLISH
X-WR-CALNAME:Brick.ie |  February 13 2016- March 14 2016
PRODID:-//strange bird labs//Drupal iCal API//EN
BEGIN:VEVENT
DTSTAMP;VALUE=DATE-TIME:20260423T062007Z
DTSTART;VALUE=DATE-TIME:20160205T230000Z
DTEND;VALUE=DATE-TIME:20160501T230000Z
UID:https://www.brick.ie/event/brick-wonders
URL;VALUE=URI:https://www.brick.ie/event/brick-wonders
SUMMARY:Brick Wonders
DESCRIPTION: <p>Warren Elsmore's Brick Wonder's exhibition is coming to Derry</p>
 
 <p>The event is organised by Derry City and Strabane District Council as parts of Science and Innovation program.</p>
 
 <p>Details\:<br />
 Did you know that between 6th February and 2nd May 2016\, the amazing Brick Wonders Exhibition is coming to Derry~Londonderry? The creator Warren Elsmore has built over 70 LEGO models and the exhibition covers not only the seven Ancient Wonders\, but also Seven Old\, Modern and Natural wonders. </p>
 
 <p>Get your Lego bricks ready as you could be entering our All Ireland Wonders Competition\, inviting entrants to design and build the ‘Wonder of their County’ using LEGO bricks and take part in regional heats. The final heat will take place in Derry~Londonderry. Finalists will be exhibited in a LEGO Trail throughout the Derry City and Strabane District Council area.</p>
 
 <p>Using LEGO® bricks\, artist Warren Elsmore creates stunning scenes with easy-to-follow instructions.</p> 
END:VEVENT
BEGIN:VEVENT
DTSTAMP;VALUE=DATE-TIME:20260423T062007Z
DTSTART;VALUE=DATE-TIME:20160213T130000Z
DTEND;VALUE=DATE-TIME:20160213T153000Z
UID:https://www.brick.ie/event/february-monthly-meeting-13-february
URL;VALUE=URI:https://www.brick.ie/event/february-monthly-meeting-13-february
SUMMARY:February Monthly meeting 13 February
DESCRIPTION: <p>The February meeting is provisionally to be held on Saturday 13 February in Nealon's pub in Capel Street.<br />
 </p> 
END:VEVENT
BEGIN:VEVENT
DTSTAMP;VALUE=DATE-TIME:20260423T062007Z
DTSTART;VALUE=DATE-TIME:20160218T101500Z
DTEND;VALUE=DATE-TIME:20020203
UID:https://www.brick.ie/event/legoworld-copenhagen
URL;VALUE=URI:https://www.brick.ie/event/legoworld-copenhagen
SUMMARY:Legoworld Copenhagen
DESCRIPTION: <p>Legoworld Copenhagen takes place in the Bella Centre from 18 to 21 February 2016. </p> 
END:VEVENT
END:VCALENDAR
