BEGIN:VCALENDAR
VERSION:2.0
METHOD:PUBLISH
X-WR-CALNAME:Brick.ie |  March 19 2016- April 18 2016
PRODID:-//strange bird labs//Drupal iCal API//EN
BEGIN:VEVENT
DTSTAMP;VALUE=DATE-TIME:20260423T062035Z
DTSTART;VALUE=DATE-TIME:20160205T230000Z
DTEND;VALUE=DATE-TIME:20160501T230000Z
UID:https://www.brick.ie/event/brick-wonders
URL;VALUE=URI:https://www.brick.ie/event/brick-wonders
SUMMARY:Brick Wonders
DESCRIPTION: <p>Warren Elsmore's Brick Wonder's exhibition is coming to Derry</p>
 
 <p>The event is organised by Derry City and Strabane District Council as parts of Science and Innovation program.</p>
 
 <p>Details\:<br />
 Did you know that between 6th February and 2nd May 2016\, the amazing Brick Wonders Exhibition is coming to Derry~Londonderry? The creator Warren Elsmore has built over 70 LEGO models and the exhibition covers not only the seven Ancient Wonders\, but also Seven Old\, Modern and Natural wonders. </p>
 
 <p>Get your Lego bricks ready as you could be entering our All Ireland Wonders Competition\, inviting entrants to design and build the ‘Wonder of their County’ using LEGO bricks and take part in regional heats. The final heat will take place in Derry~Londonderry. Finalists will be exhibited in a LEGO Trail throughout the Derry City and Strabane District Council area.</p>
 
 <p>Using LEGO® bricks\, artist Warren Elsmore creates stunning scenes with easy-to-follow instructions.</p> 
END:VEVENT
BEGIN:VEVENT
DTSTAMP;VALUE=DATE-TIME:20260423T062035Z
DTSTART;VALUE=DATE-TIME:20160319T130000Z
DTEND;VALUE=DATE-TIME:20160319T153000Z
UID:https://www.brick.ie/event/monthly-meeting-19-march
URL;VALUE=URI:https://www.brick.ie/event/monthly-meeting-19-march
SUMMARY:Monthly Meeting - 19 March
DESCRIPTION: <p>The next monthly gathering is provisionally scheduled for 19 March which is the third Saturday of the month. AS usual it will be held in Nealons Pub in Capel Street from about 2pm.</p> 
END:VEVENT
BEGIN:VEVENT
DTSTAMP;VALUE=DATE-TIME:20260423T062035Z
DTSTART;VALUE=DATE-TIME:20160417T113900Z
DTEND;VALUE=DATE-TIME:20020203
UID:https://www.brick.ie/event/eurobricks-annual-event
URL;VALUE=URI:https://www.brick.ie/event/eurobricks-annual-event
SUMMARY:Eurobricks annual event
DESCRIPTION: <p></p> 
END:VEVENT
END:VCALENDAR
