BEGIN:VCALENDAR
VERSION:2.0
METHOD:PUBLISH
X-WR-CALNAME:Brick.ie |  May 30 2016- June 06 2016
PRODID:-//strange bird labs//Drupal iCal API//EN
BEGIN:VEVENT
DTSTAMP;VALUE=DATE-TIME:20260423T062139Z
DTSTART;VALUE=DATE-TIME:20160604T110000Z
DTEND;VALUE=DATE-TIME:20160604T160000Z
UID:https://www.brick.ie/event/carrickmacross-event-4-june
URL;VALUE=URI:https://www.brick.ie/event/carrickmacross-event-4-june
SUMMARY:Carrickmacross event - 4 June
DESCRIPTION: <p>Some brick.ie members will be participating in a local event in Carrickmacross on the Saturday of the June bank holiday weekend.</p> 
END:VEVENT
END:VCALENDAR
