BEGIN:VCALENDAR
VERSION:2.0
METHOD:PUBLISH
X-WR-CALNAME:Brick.ie |  June 06 2016- June 13 2016
PRODID:-//strange bird labs//Drupal iCal API//EN
BEGIN:VEVENT
DTSTAMP;VALUE=DATE-TIME:20260423T062115Z
DTSTART;VALUE=DATE-TIME:20160610T113700Z
DTEND;VALUE=DATE-TIME:20020203
UID:https://www.brick.ie/event/lego-fan-weekend-parades-de-coura-portugal
URL;VALUE=URI:https://www.brick.ie/event/lego-fan-weekend-parades-de-coura-portugal
SUMMARY:Lego Fan Weekend Parades de Coura (Portugal)
DESCRIPTION: <p></p> 
END:VEVENT
END:VCALENDAR
