BEGIN:VCALENDAR
VERSION:2.0
METHOD:PUBLISH
X-WR-CALNAME:Brick.ie |  August 20 2016- September 19 2016
PRODID:-//strange bird labs//Drupal iCal API//EN
BEGIN:VEVENT
DTSTAMP;VALUE=DATE-TIME:20260423T054207Z
DTSTART;VALUE=DATE-TIME:20160820T130000Z
DTEND;VALUE=DATE-TIME:20160820T153000Z
UID:https://www.brick.ie/event/august-meeting-1
URL;VALUE=URI:https://www.brick.ie/event/august-meeting-1
SUMMARY:August meeting
DESCRIPTION: <p>Our next monthly meeting is scheduled for Saturday 20 August at 2pm at Nealons Pub Capel Street Dublin.</p> 
END:VEVENT
BEGIN:VEVENT
DTSTAMP;VALUE=DATE-TIME:20260423T054207Z
DTSTART;VALUE=DATE-TIME:20160918T090000Z
DTEND;VALUE=DATE-TIME:20160918T170000Z
UID:https://www.brick.ie/event/6th-diecast-model-show-limerick-18-september-2016
URL;VALUE=URI:https://www.brick.ie/event/6th-diecast-model-show-limerick-18-september-2016
SUMMARY:6th Diecast Model Show - Limerick 18 September 2016
DESCRIPTION: <p>A team from brick.ie will be participating in the Limerick's 6th Diecast Model exhibition on 18 September 2016.</p> 
END:VEVENT
END:VCALENDAR
