BEGIN:VCALENDAR
VERSION:2.0
METHOD:PUBLISH
X-WR-CALNAME:Brick.ie |  October 01 2016- November 01 2016
PRODID:-//strange bird labs//Drupal iCal API//EN
BEGIN:VEVENT
DTSTAMP;VALUE=DATE-TIME:20260423T040457Z
DTSTART;VALUE=DATE-TIME:20161022T130000Z
DTEND;VALUE=DATE-TIME:20161022T130000Z
UID:https://www.brick.ie/event/brickie-annual-members-event
URL;VALUE=URI:https://www.brick.ie/event/brickie-annual-members-event
SUMMARY:Brick.ie annual members' event
DESCRIPTION: <p>This is our annual brick.ie members' event where we hold LEGO competitions with plenty of prizes to win.</p> 
END:VEVENT
BEGIN:VEVENT
DTSTAMP;VALUE=DATE-TIME:20260423T040457Z
DTSTART;VALUE=DATE-TIME:20161027T080000Z
DTEND;VALUE=DATE-TIME:20161030T160000Z
UID:https://www.brick.ie/event/brick-2016-birmingham
URL;VALUE=URI:https://www.brick.ie/event/brick-2016-birmingham
SUMMARY:Brick 2016 - Birmingham
DESCRIPTION: <p></p> 
END:VEVENT
BEGIN:VEVENT
DTSTAMP;VALUE=DATE-TIME:20260423T040457Z
DTSTART;VALUE=DATE-TIME:20161029T103000Z
DTEND;VALUE=DATE-TIME:20161031T163000Z
UID:https://www.brick.ie/event/model-railway-society-ireland-raheny-29-31-october-2016
URL;VALUE=URI:https://www.brick.ie/event/model-railway-society-ireland-raheny-29-31-october-2016
SUMMARY:Model Railway Society of Ireland - Raheny 29-31 October 2016
DESCRIPTION: <p>The Model Railway Society of Ireland host its bi-annual exhibition over the October bank holiday weekend (from 29 to 31 October 2016). A team from brick.ie will be there with members latest creations.</p> 
END:VEVENT
END:VCALENDAR
