BEGIN:VCALENDAR
VERSION:2.0
METHOD:PUBLISH
X-WR-CALNAME:Brick.ie |  February 13 2017- February 20 2017
PRODID:-//strange bird labs//Drupal iCal API//EN
BEGIN:VEVENT
DTSTAMP;VALUE=DATE-TIME:20260423T044325Z
DTSTART;VALUE=DATE-TIME:20170218T130000Z
DTEND;VALUE=DATE-TIME:20170218T130000Z
UID:https://www.brick.ie/event/february-meeting-3
URL;VALUE=URI:https://www.brick.ie/event/february-meeting-3
SUMMARY:February meeting
DESCRIPTION: <p>The February meeting is scheduled for 18 February in Nealons\, Capel Street</p> 
END:VEVENT
END:VCALENDAR
