BEGIN:VCALENDAR
VERSION:2.0
METHOD:PUBLISH
X-WR-CALNAME:Brick.ie |  April 27 2017- May 27 2017
PRODID:-//strange bird labs//Drupal iCal API//EN
BEGIN:VEVENT
DTSTAMP;VALUE=DATE-TIME:20260423T054255Z
DTSTART;VALUE=DATE-TIME:20170427T060000Z
DTEND;VALUE=DATE-TIME:20170429T220000Z
UID:https://www.brick.ie/event/eurobricks-annual-event-27-29-april-2017
URL;VALUE=URI:https://www.brick.ie/event/eurobricks-annual-event-27-29-april-2017
SUMMARY:Eurobricks annual event 27 - 29 April 2017
DESCRIPTION: <p>The annual Eurobricks event has now been rescheduled for later in April 2017 for those of you that are interested in this event.</p>
 
 <p>Travel days - Wednesday 26th and Sunday 30th April.</p>
 
 <p>This will involve a visit to LEGOLAND Gunzburg and a visit to Munich. Gunzburg is over an hour away by Autobahn from Munich airport (Memmingen is nearer) but there is a Munich central/Gunzburg train service.</p> 
END:VEVENT
BEGIN:VEVENT
DTSTAMP;VALUE=DATE-TIME:20260423T054255Z
DTSTART;VALUE=DATE-TIME:20170519T130000Z
DTEND;VALUE=DATE-TIME:20170520T160000Z
UID:https://www.brick.ie/event/naas-library-1920-may-2017
URL;VALUE=URI:https://www.brick.ie/event/naas-library-1920-may-2017
SUMMARY:Naas Library - 19/20 May 2017
DESCRIPTION: <p>The brick.ie annual display has been scheduled for Friday 19th and Saturday 20th May 2017. </p>
 
 <p>This is one of our flagship displays and it is brick.ie exhibitors only in the mezzanine level of Naas Library. This year the provisional plan is to set-up on the Friday morning with opening after lunch\, i.e. the school tour element has been dropped and Thursday set-up is thus not required.</p> 
END:VEVENT
END:VCALENDAR
