BEGIN:VCALENDAR
VERSION:2.0
METHOD:PUBLISH
X-WR-CALNAME:Brick.ie |  July 11 2017- August 10 2017
PRODID:-//strange bird labs//Drupal iCal API//EN
BEGIN:VEVENT
DTSTAMP;VALUE=DATE-TIME:20260423T111904Z
DTSTART;VALUE=DATE-TIME:20170715T123000Z
DTEND;VALUE=DATE-TIME:20170715T150000Z
UID:https://www.brick.ie/event/july-meeting-2
URL;VALUE=URI:https://www.brick.ie/event/july-meeting-2
SUMMARY:July meeting
DESCRIPTION: <p>Our first full meeting in the now location\:<br />
 <a href=\\"http\://galwaybaybrewery.com/blacksheep/\\" class=\\"bb-url\\">The Black Sheep</a><br />
 So let's get a big group together to kick things off in style!<br />
 </p> 
END:VEVENT
BEGIN:VEVENT
DTSTAMP;VALUE=DATE-TIME:20260423T111904Z
DTSTART;VALUE=DATE-TIME:20170803T093000Z
DTEND;VALUE=DATE-TIME:20170806T170000Z
UID:https://www.brick.ie/event/bricklive-2017-belfast
URL;VALUE=URI:https://www.brick.ie/event/bricklive-2017-belfast
SUMMARY:Bricklive 2017 Belfast
DESCRIPTION: <p>[Update\: Note the date change to August]</p>
 
 <p>BRICKLIVE is back!</p>
 
 <p>There’s a reason BRICK’s strapline is ‘Built for LEGO® Fans’ because that is exactly what it is – built by LEGO® fans for LEGO fans!</p>
 
 <p> The world’s best LEGO® builders will gather as we welcome more international professional and amateur displays to our Fan Zone\, a Race Track\, Graffti walls\,  and even more have-a-go themed areas for you to enjoy.</p>
 
 <p> There’s also over 3 MILLION LEGO® bricks for you to play with in our popular BRICK PITS.</p>
 
 <p> This is a MUST for all fans of LEGO® whatever their age!</p>
 
 <p> See the latest LEGO® sets to buy as well as specialist retailers selling cool vintage and collectible rare sets and accessories too. Plus lots of fantastic LEGO® themed gift ideas for fans of all ages.<br />
  VIP tickets include early access with lanyard and event guide </p> 
END:VEVENT
END:VCALENDAR
