BEGIN:VCALENDAR
VERSION:2.0
METHOD:PUBLISH
X-WR-CALNAME:Brick.ie |  September 28 2017- October 28 2017
PRODID:-//strange bird labs//Drupal iCal API//EN
BEGIN:VEVENT
DTSTAMP;VALUE=DATE-TIME:20260423T075441Z
DTSTART;VALUE=DATE-TIME:20171021T121300Z
DTEND;VALUE=DATE-TIME:20171021T121300Z
UID:https://www.brick.ie/event/october-meeting-1
URL;VALUE=URI:https://www.brick.ie/event/october-meeting-1
SUMMARY:October Meeting
DESCRIPTION: <p>Join us a week before the Model Railway Show in Blackrock in our new home away from home\, the Black Sheep Pub on Capel street.<br />
 We usually arrive around one\, half one for some food and drink before heading over to Toy Corner to spend our pocket money.</p> 
END:VEVENT
BEGIN:VEVENT
DTSTAMP;VALUE=DATE-TIME:20260423T075441Z
DTSTART;VALUE=DATE-TIME:20171026T083000Z
DTEND;VALUE=DATE-TIME:20171029T160000Z
UID:https://www.brick.ie/event/brick-live-birmingham
URL;VALUE=URI:https://www.brick.ie/event/brick-live-birmingham
SUMMARY:Brick Live\, Birmingham
DESCRIPTION: <p>A number of brick.ie members will be displaying their models at the Brick Live event in Birmingham.<br />
 For more information about opening hours and ticket prices check out the website at <a href=\\"http\://bricklive.co.uk/.\\">http\://bricklive.co.uk/.</a></p> 
END:VEVENT
END:VCALENDAR
