BEGIN:VCALENDAR
VERSION:2.0
METHOD:PUBLISH
X-WR-CALNAME:Brick.ie |  December 11 2017- December 18 2017
PRODID:-//strange bird labs//Drupal iCal API//EN
BEGIN:VEVENT
DTSTAMP;VALUE=DATE-TIME:20260423T045227Z
DTSTART;VALUE=DATE-TIME:20171216T123000Z
DTEND;VALUE=DATE-TIME:20171216T153000Z
UID:https://www.brick.ie/event/monthly-meeting-december
URL;VALUE=URI:https://www.brick.ie/event/monthly-meeting-december
SUMMARY:Monthly Meeting - December
DESCRIPTION: <p>Join us a week before the last-minute shopping rush for Christmas in our home away from home\, the Black Sheep Pub on Capel street.<br />
 We usually arrive around one\, half one for some food and drink before heading over to Toy Corner to spend our pocket money.</p> 
END:VEVENT
END:VCALENDAR
