BEGIN:VCALENDAR
VERSION:2.0
METHOD:PUBLISH
X-WR-CALNAME:Brick.ie |  January 15 2018- February 14 2018
PRODID:-//strange bird labs//Drupal iCal API//EN
BEGIN:VEVENT
DTSTAMP;VALUE=DATE-TIME:20260423T093733Z
DTSTART;VALUE=DATE-TIME:20180120T120000Z
DTEND;VALUE=DATE-TIME:20180120T150000Z
UID:https://www.brick.ie/event/monthly-meeting-january
URL;VALUE=URI:https://www.brick.ie/event/monthly-meeting-january
SUMMARY:Monthly Meeting January
DESCRIPTION: <p>Join us in the Black Sheep pub on Capel street for the first monthly meeting of the year.<br />
 If we have some pocket money left after Christmas and the January sales we might visit Toy Corner afterwards\:<br />
 <a href=\\"https\://www.google.ie/maps/place/Toy+Corner/@53.3487896\,-6.2688606\,17z/data=!3m1!4b1!4m5!3m4!1s0x48670e8245b55cfd\:0x87a71ae642cfa317!8m2!3d53.3487896!4d-6.2666719\\" class=\\"bb-url\\">https\://www.google.ie/maps/place/Toy+Corner</a></p> 
END:VEVENT
BEGIN:VEVENT
DTSTAMP;VALUE=DATE-TIME:20260423T093733Z
DTSTART;VALUE=DATE-TIME:20180127T080000Z
DTEND;VALUE=DATE-TIME:20180128T160000Z
UID:https://www.brick.ie/event/brickx-fest-2018
URL;VALUE=URI:https://www.brick.ie/event/brickx-fest-2018
SUMMARY:Brickx Fest 2018
DESCRIPTION: <p>Organised by The Brickx Club\, this event is moving from City West to Tayto Park for 2018.<br />
 Brick.ie members and other Lego builders will take part.<br />
 Open to the public on Saturday 27 and Sunday 28 January from 10am to 5pm (with sensory hour from 9am-10am each day).<br />
 </p> 
END:VEVENT
END:VCALENDAR
