BEGIN:VCALENDAR
VERSION:2.0
METHOD:PUBLISH
X-WR-CALNAME:Brick.ie |  March 24 2018- April 23 2018
PRODID:-//strange bird labs//Drupal iCal API//EN
BEGIN:VEVENT
DTSTAMP;VALUE=DATE-TIME:20260423T045131Z
DTSTART;VALUE=DATE-TIME:20180324T123000Z
DTEND;VALUE=DATE-TIME:20180324T153000Z
UID:https://www.brick.ie/event/monthly-meeting-march
URL;VALUE=URI:https://www.brick.ie/event/monthly-meeting-march
SUMMARY:Monthly Meeting March
DESCRIPTION: <p>A little later in the month than usual because of Paddy's day\, our March meeting will be on Saturday the 24th.<br />
 The location will not change though\, the Black Sheep pub on Capel street.<br />
 Join us for a chat about chocolate eggs and qualifying in Melbourne. Oh\, and ABS from Denmark.</p> 
END:VEVENT
BEGIN:VEVENT
DTSTAMP;VALUE=DATE-TIME:20260423T045131Z
DTSTART;VALUE=DATE-TIME:20180421T120000Z
DTEND;VALUE=DATE-TIME:20180421T150000Z
UID:https://www.brick.ie/event/monthly-meeting-april
URL;VALUE=URI:https://www.brick.ie/event/monthly-meeting-april
SUMMARY:Monthly Meeting April
DESCRIPTION: <p>Join us on the third Saturday in April in the Black Sheep Pub for a bit of food\, drink and banter. If we have some pocket money left we might spend it on <a href=\\"https\://www.google.ie/maps/place/Toy+Corner/@53.3487928\,-6.2688606\,17z/data=!3m1!4b1!4m5!3m4!1s0x48670e8245b55cfd\:0x87a71ae642cfa317!8m2!3d53.3487896!4d-6.2666718\\" class=\\"bb-url\\">Toy Corner</a>.</p> 
END:VEVENT
END:VCALENDAR
