BEGIN:VCALENDAR
VERSION:2.0
METHOD:PUBLISH
X-WR-CALNAME:Brick.ie |  May 14 2018- May 21 2018
PRODID:-//strange bird labs//Drupal iCal API//EN
BEGIN:VEVENT
DTSTAMP;VALUE=DATE-TIME:20260423T041219Z
DTSTART;VALUE=DATE-TIME:20180519T120000Z
DTEND;VALUE=DATE-TIME:20180519T153000Z
UID:https://www.brick.ie/event/monthly-meeting-may
URL;VALUE=URI:https://www.brick.ie/event/monthly-meeting-may
SUMMARY:Monthly Meeting May
DESCRIPTION: <p>Between the display in Naas and the release of Solo join us for a chat about all things Lego.</p> 
END:VEVENT
END:VCALENDAR
