BEGIN:VCALENDAR
VERSION:2.0
METHOD:PUBLISH
X-WR-CALNAME:Brick.ie |  July 20 2018- August 19 2018
PRODID:-//strange bird labs//Drupal iCal API//EN
BEGIN:VEVENT
DTSTAMP;VALUE=DATE-TIME:20260420T233457Z
DTSTART;VALUE=DATE-TIME:20180721T130000Z
DTEND;VALUE=DATE-TIME:20180721T153000Z
UID:https://www.brick.ie/event/july-meeting-dublin
URL;VALUE=URI:https://www.brick.ie/event/july-meeting-dublin
SUMMARY:July meeting in Dublin
DESCRIPTION: <p>Our July meeting is scheduled for Saturday 21 July about 2pm. Why not come along to meet fellow Adult Fans of Lego over a drink or a bite to eat. New members always welcome.</p> 
END:VEVENT
BEGIN:VEVENT
DTSTAMP;VALUE=DATE-TIME:20260420T233457Z
DTSTART;VALUE=DATE-TIME:20180818T130000Z
DTEND;VALUE=DATE-TIME:20180818T153000Z
UID:https://www.brick.ie/event/august-meeting-2
URL;VALUE=URI:https://www.brick.ie/event/august-meeting-2
SUMMARY:August meeting
DESCRIPTION: <p>Our next monthly meeting takes place on the 18th Auugust at 2pm in our usual location\, the Black Sheep pub in Dublin's Capel Street.</p> 
END:VEVENT
END:VCALENDAR
