BEGIN:VCALENDAR
VERSION:2.0
METHOD:PUBLISH
X-WR-CALNAME:Brick.ie |  August 25 2018- September 24 2018
PRODID:-//strange bird labs//Drupal iCal API//EN
BEGIN:VEVENT
DTSTAMP;VALUE=DATE-TIME:20260423T034703Z
DTSTART;VALUE=DATE-TIME:20180825T130900Z
DTEND;VALUE=DATE-TIME:20020203
UID:https://www.brick.ie/event/brickxfest-cork-25-26-august
URL;VALUE=URI:https://www.brick.ie/event/brickxfest-cork-25-26-august
SUMMARY:Brickxfest Cork 25 - 26 August
DESCRIPTION: <p>This event is being organised in partnership with the Brickxclub Ireland team over 2 days in Cork. What a nice way to round off the summer.</p> 
END:VEVENT
BEGIN:VEVENT
DTSTAMP;VALUE=DATE-TIME:20260423T034703Z
DTSTART;VALUE=DATE-TIME:20180908T230200Z
DTEND;VALUE=DATE-TIME:20180908T230200Z
UID:https://www.brick.ie/event/limerick-diecast-and-model-show-9-september-2018
URL;VALUE=URI:https://www.brick.ie/event/limerick-diecast-and-model-show-9-september-2018
SUMMARY:Limerick Diecast and Model Show - 9 September 2018
DESCRIPTION: <p></p> 
END:VEVENT
BEGIN:VEVENT
DTSTAMP;VALUE=DATE-TIME:20260423T034703Z
DTSTART;VALUE=DATE-TIME:20180915T130000Z
DTEND;VALUE=DATE-TIME:20180915T153000Z
UID:https://www.brick.ie/event/september-meeting-2
URL;VALUE=URI:https://www.brick.ie/event/september-meeting-2
SUMMARY:September meeting
DESCRIPTION: <p>Our September meeting is scheduled for the 3rd Saturday of the month. This falls on the 15th September this time.</p>
 
 <p>The meeting usually starts around 2pm in the Black Sheep Pub in Capel Street\, Dublin. Please check the forum for any changes or other relevant information.<br />
 </p> 
END:VEVENT
END:VCALENDAR
