BEGIN:VCALENDAR
VERSION:2.0
METHOD:PUBLISH
X-WR-CALNAME:Brick.ie |  November 24 2018- December 24 2018
PRODID:-//strange bird labs//Drupal iCal API//EN
BEGIN:VEVENT
DTSTAMP;VALUE=DATE-TIME:20260423T033746Z
DTSTART;VALUE=DATE-TIME:20181124T173500Z
DTEND;VALUE=DATE-TIME:20020203
UID:https://www.brick.ie/event/dublin-games-festival
URL;VALUE=URI:https://www.brick.ie/event/dublin-games-festival
SUMMARY:Dublin Games Festival
DESCRIPTION: <p>This new Games event will have a LEGO component. There will be brick.ie participation at it.</p> 
END:VEVENT
BEGIN:VEVENT
DTSTAMP;VALUE=DATE-TIME:20260423T033746Z
DTSTART;VALUE=DATE-TIME:20181208T090000Z
DTEND;VALUE=DATE-TIME:20181208T160000Z
UID:https://www.brick.ie/event/blessington-library
URL;VALUE=URI:https://www.brick.ie/event/blessington-library
SUMMARY:Blessington Library
DESCRIPTION: <p>A team of brick.ie builders will be heading to Blessington library in the run up to Christmas. With some fantastic displays and our fantastic brick pit its sure to get you in the festive spirit.</p> 
END:VEVENT
BEGIN:VEVENT
DTSTAMP;VALUE=DATE-TIME:20260423T033746Z
DTSTART;VALUE=DATE-TIME:20181215T110000Z
DTEND;VALUE=DATE-TIME:20181215T153000Z
UID:https://www.brick.ie/event/annual-brickie-event-2018-naas-cokildare
URL;VALUE=URI:https://www.brick.ie/event/annual-brickie-event-2018-naas-cokildare
SUMMARY:Annual Brick.ie Event 2018 - Naas\, Co.Kildare
DESCRIPTION: <p>Our annual members (and family) meet-up is scheduled for 15 December. Sign-up is via our forum.</p> 
END:VEVENT
END:VCALENDAR
