BEGIN:VCALENDAR
VERSION:2.0
METHOD:PUBLISH
X-WR-CALNAME:Brick.ie |  July 16 2019- August 15 2019
PRODID:-//strange bird labs//Drupal iCal API//EN
BEGIN:VEVENT
DTSTAMP;VALUE=DATE-TIME:20260423T071735Z
DTSTART;VALUE=DATE-TIME:20190810T130000Z
DTEND;VALUE=DATE-TIME:20190810T153000Z
UID:https://www.brick.ie/event/august-dublin-meeting
URL;VALUE=URI:https://www.brick.ie/event/august-dublin-meeting
SUMMARY:August Dublin meeting
DESCRIPTION: <p>Our monthly meetings will recommence after a series of events on Saturday 10 August in the Black Sheep Pub\, Capel Street Dublin. As usual aim for arrival between 1 and 2 and we usually head around to the stores afterwards to see if anything interesting is in stock.</p> 
END:VEVENT
END:VCALENDAR
