BEGIN:VCALENDAR
VERSION:2.0
METHOD:PUBLISH
X-WR-CALNAME:Brick.ie |  August 15 2019- September 14 2019
PRODID:-//strange bird labs//Drupal iCal API//EN
BEGIN:VEVENT
DTSTAMP;VALUE=DATE-TIME:20260423T051645Z
DTSTART;VALUE=DATE-TIME:20190815T080000Z
DTEND;VALUE=DATE-TIME:20190819T160000Z
UID:https://www.brick.ie/event/worldcon-dublin
URL;VALUE=URI:https://www.brick.ie/event/worldcon-dublin
SUMMARY:Worldcon Dublin
DESCRIPTION: <p>Details to be announced.</p> 
END:VEVENT
BEGIN:VEVENT
DTSTAMP;VALUE=DATE-TIME:20260423T051645Z
DTSTART;VALUE=DATE-TIME:20190908T090000Z
DTEND;VALUE=DATE-TIME:20190908T170000Z
UID:https://www.brick.ie/event/limerick-diecast-model-show-8-september
URL;VALUE=URI:https://www.brick.ie/event/limerick-diecast-model-show-8-september
SUMMARY:Limerick Diecast Model Show 8 September
DESCRIPTION: <p>The Limerick Diecast Model and Diorama Show returns this Sunday 8 September to the South Court Hotel in Raheen\, Co Limerick. A team from brick.ie will be there.</p> 
END:VEVENT
END:VCALENDAR
