BEGIN:VCALENDAR
VERSION:2.0
METHOD:PUBLISH
X-WR-CALNAME:Brick.ie |  October 14 2019- October 21 2019
PRODID:-//strange bird labs//Drupal iCal API//EN
BEGIN:VEVENT
DTSTAMP;VALUE=DATE-TIME:20260423T093816Z
DTSTART;VALUE=DATE-TIME:20191019T123000Z
DTEND;VALUE=DATE-TIME:20191019T153000Z
UID:https://www.brick.ie/event/october-meeting-2
URL;VALUE=URI:https://www.brick.ie/event/october-meeting-2
SUMMARY:October meeting
DESCRIPTION: <p>Our October meeting is scheduled from 2pm-ish on Saturday 19 October\, as we revert to our normal third Saturday of the month. Usual venue being the Black Sheep pub in Capel Street Dublin</p> 
END:VEVENT
END:VCALENDAR
