BEGIN:VCALENDAR
VERSION:2.0
METHOD:PUBLISH
X-WR-CALNAME:Brick.ie |  January 25 2020- February 24 2020
PRODID:-//strange bird labs//Drupal iCal API//EN
BEGIN:VEVENT
DTSTAMP;VALUE=DATE-TIME:20260423T050127Z
DTSTART;VALUE=DATE-TIME:20200125T090000Z
DTEND;VALUE=DATE-TIME:20200125T090000Z
UID:https://www.brick.ie/event/athy-library
URL;VALUE=URI:https://www.brick.ie/event/athy-library
SUMMARY:Athy Library
DESCRIPTION: <p>Display of LEGO models by Brick.ie members at Athy Library\, Co. Kildare</p> 
END:VEVENT
BEGIN:VEVENT
DTSTAMP;VALUE=DATE-TIME:20260423T050127Z
DTSTART;VALUE=DATE-TIME:20200215T123000Z
DTEND;VALUE=DATE-TIME:20200215T153000Z
UID:https://www.brick.ie/event/february-meeting-5
URL;VALUE=URI:https://www.brick.ie/event/february-meeting-5
SUMMARY:February meeting
DESCRIPTION: <p>Our February meeting is scheduled as normal for the third Saturday of the month in the Blacksheep Pub Capel Street. All welcome for LEGO chat etc. Kick-off around 2-ish.</p> 
END:VEVENT
END:VCALENDAR
