BEGIN:VCALENDAR
VERSION:2.0
METHOD:PUBLISH
X-WR-CALNAME:Brick.ie |  November 01 2021- December 01 2021
PRODID:-//strange bird labs//Drupal iCal API//EN
BEGIN:VEVENT
DTSTAMP;VALUE=DATE-TIME:20260423T003741Z
DTSTART;VALUE=DATE-TIME:20211121T100000Z
DTEND;VALUE=DATE-TIME:20211121T160000Z
UID:https://www.brick.ie/event/jack-and-jill-charity-brickmas-event
URL;VALUE=URI:https://www.brick.ie/event/jack-and-jill-charity-brickmas-event
SUMMARY:Jack and Jill Charity Brickmas Event 
DESCRIPTION: <p>There will be a charity fundraiser for Jack and Jill on Sunday 21 November in Clane\, Co. Kildare. This is being organised predominantly by the event organisers Shamrock Bricks. Some brick.ie members will be there with their models.</p>
 
 <p></p> 
END:VEVENT
END:VCALENDAR
