BEGIN:VCALENDAR
VERSION:2.0
METHOD:PUBLISH
X-WR-CALNAME:Brick.ie |  February 01 2023- March 01 2023
PRODID:-//strange bird labs//Drupal iCal API//EN
BEGIN:VEVENT
DTSTAMP;VALUE=DATE-TIME:20260423T020852Z
DTSTART;VALUE=DATE-TIME:20230218T120000Z
DTEND;VALUE=DATE-TIME:20230218T150000Z
UID:https://www.brick.ie/event/february-monthly-meeting
URL;VALUE=URI:https://www.brick.ie/event/february-monthly-meeting
SUMMARY:February Monthly Meeting
DESCRIPTION: <p>Join us between 1 and 4 in the Well on Stephens Green\, a brick's throw away from the Lego store\, for a drink\, a bite to eat and a chat about the weather.</p> 
END:VEVENT
END:VCALENDAR
