BEGIN:VCALENDAR
VERSION:2.0
METHOD:PUBLISH
X-WR-CALNAME:Brick.ie |  June 01 2023- July 01 2023
PRODID:-//strange bird labs//Drupal iCal API//EN
BEGIN:VEVENT
DTSTAMP;VALUE=DATE-TIME:20260425T133656Z
DTSTART;VALUE=DATE-TIME:20230624T080000Z
DTEND;VALUE=DATE-TIME:20230624T170000Z
UID:https://www.brick.ie/event/afol-appreciation-day
URL;VALUE=URI:https://www.brick.ie/event/afol-appreciation-day
SUMMARY:AfoL Appreciation Day
DESCRIPTION: <p>One of 4 special AfoL shopping days. More details on the forum.</p> 
END:VEVENT
BEGIN:VEVENT
DTSTAMP;VALUE=DATE-TIME:20260425T133656Z
DTSTART;VALUE=DATE-TIME:20230624T090000Z
DTEND;VALUE=DATE-TIME:20230624T110000Z
UID:https://www.brick.ie/event/june-meet-saturday-24-june
URL;VALUE=URI:https://www.brick.ie/event/june-meet-saturday-24-june
SUMMARY:June meet-up Saturday 24 June
DESCRIPTION: <p>Hi. Given the likely road (and venue) restrictions and the busy nature of Dublin this coming Saturday 24 June we will bring forward our monthly meet-up to 10am-ish. We'll meet upstairs in the cafe area of Stephens Green centre. That will give people a chance to visit the LEGO store and meet up before it gets too busy in the afternoon. New members welcome.</p> 
END:VEVENT
END:VCALENDAR
