BEGIN:VCALENDAR
VERSION:2.0
METHOD:PUBLISH
X-WR-CALNAME:Brick.ie |  August 16 2023- September 15 2023
PRODID:-//strange bird labs//Drupal iCal API//EN
BEGIN:VEVENT
DTSTAMP;VALUE=DATE-TIME:20260423T041159Z
DTSTART;VALUE=DATE-TIME:20230819T120000Z
DTEND;VALUE=DATE-TIME:20230819T150000Z
UID:https://www.brick.ie/event/august-monthly-meeting-1
URL;VALUE=URI:https://www.brick.ie/event/august-monthly-meeting-1
SUMMARY:August Monthly Meeting
DESCRIPTION: <p>Join us in the Well on St. Stephens Green for a chat about Brick Feile\, plans for the next AfoL Shopping Day\, the weather...</p> 
END:VEVENT
END:VCALENDAR
