BEGIN:VCALENDAR
VERSION:2.0
METHOD:PUBLISH
X-WR-CALNAME:Brick.ie |  January 19 2024- February 18 2024
PRODID:-//strange bird labs//Drupal iCal API//EN
BEGIN:VEVENT
DTSTAMP;VALUE=DATE-TIME:20260423T054253Z
DTSTART;VALUE=DATE-TIME:20240120T120000Z
DTEND;VALUE=DATE-TIME:20240120T150000Z
UID:https://www.brick.ie/event/january-monthly-meeting
URL;VALUE=URI:https://www.brick.ie/event/january-monthly-meeting
SUMMARY:January Monthly Meeting
DESCRIPTION: <p>Join us between 1 and 4 in the Well on Stephens Green\, a brick's throw away from the Lego store\, for a drink\, a bite to eat and a chat about Danish plastic.</p> 
END:VEVENT
BEGIN:VEVENT
DTSTAMP;VALUE=DATE-TIME:20260423T054253Z
DTSTART;VALUE=DATE-TIME:20240217T120000Z
DTEND;VALUE=DATE-TIME:20240217T150000Z
UID:https://www.brick.ie/event/february-meeting-7
URL;VALUE=URI:https://www.brick.ie/event/february-meeting-7
SUMMARY:February meeting
DESCRIPTION: <p>The third Saturday of the month is this coming 17 February so its time for the February meet-up. We'll be at the Well pub on St Stephen's Green Dublin from about 1pm-ish.</p> 
END:VEVENT
END:VCALENDAR
