BEGIN:VCALENDAR
VERSION:2.0
METHOD:PUBLISH
X-WR-CALNAME:Brick.ie |  May 13 2024- May 20 2024
PRODID:-//strange bird labs//Drupal iCal API//EN
BEGIN:VEVENT
DTSTAMP;VALUE=DATE-TIME:20260423T023425Z
DTSTART;VALUE=DATE-TIME:20240518T120000Z
DTEND;VALUE=DATE-TIME:20240518T150000Z
UID:https://www.brick.ie/event/may-monthly-meeting-0
URL;VALUE=URI:https://www.brick.ie/event/may-monthly-meeting-0
SUMMARY:May Monthly meeting
DESCRIPTION: <p>The next monthly meeting is scheduled for Saturday 18 May from 1-4 in the Well Pub on St Stephen's Green Dublin. All members (and prospective members) welcome.</p> 
END:VEVENT
END:VCALENDAR
