BEGIN:VCALENDAR
VERSION:2.0
METHOD:PUBLISH
X-WR-CALNAME:Brick.ie |  June 22 2024- July 22 2024
PRODID:-//strange bird labs//Drupal iCal API//EN
BEGIN:VEVENT
DTSTAMP;VALUE=DATE-TIME:20260423T023424Z
DTSTART;VALUE=DATE-TIME:20240622T120000Z
DTEND;VALUE=DATE-TIME:20240622T150000Z
UID:https://www.brick.ie/event/june-monthly-meet
URL;VALUE=URI:https://www.brick.ie/event/june-monthly-meet
SUMMARY:June Monthly Meet
DESCRIPTION: <p>The June monthly meeting is scheduled for Saturday 22nd. From 1 to about 4-ish we'll be in the Well Pub on St Stephen's Green. Some of us will likely visit the LEGO Store on Grafton Street at some point.</p> 
END:VEVENT
BEGIN:VEVENT
DTSTAMP;VALUE=DATE-TIME:20260423T023424Z
DTSTART;VALUE=DATE-TIME:20240720T090000Z
DTEND;VALUE=DATE-TIME:20240721T160000Z
UID:https://www.brick.ie/event/brick-f%C3%A9ile-2024
URL;VALUE=URI:https://www.brick.ie/event/brick-f%C3%A9ile-2024
SUMMARY:Brick Féile 2024
DESCRIPTION: <p>Brick Feile 2024 at CityNorth Hotel</p>
 
 <p>Ireland's premier event for LEGO fans returns to CityNorth on 20 and 21 July 2024.</p>
 
 <p>Meet\, Ireland's most creative LEGO model builders with their all new custom-built models\, the largest gathering of brick.ie international builder friends with their creations\, our group projects and our new AFOL giant build. Ireland's biggest brick pits will also be present to delve into as well as the Fairybricks mosaic challenge team. With competitions and more\, its a great day out and all in aid of the charity FairyBricks which donates thousands of LEGO sets to Irish hospitals every year.</p> 
END:VEVENT
END:VCALENDAR
