BEGIN:VCALENDAR
VERSION:2.0
METHOD:PUBLISH
X-WR-CALNAME:Brick.ie |  August 22 2024- September 21 2024
PRODID:-//strange bird labs//Drupal iCal API//EN
BEGIN:VEVENT
DTSTAMP;VALUE=DATE-TIME:20260423T054112Z
DTSTART;VALUE=DATE-TIME:20240907T090000Z
DTEND;VALUE=DATE-TIME:20240907T090000Z
UID:https://www.brick.ie/event/blessington-library-0
URL;VALUE=URI:https://www.brick.ie/event/blessington-library-0
SUMMARY:Blessington Library
DESCRIPTION: <p>The brick.ie team returns to Blessington for a small local event. We'll have some LEGO models and a brick pit.</p> 
END:VEVENT
END:VCALENDAR
